BEGIN:VCALENDAR
VERSION:2.0
PRODID:-//Babst Calland - Attorneys at Law - ECPv6.2.8.1//NONSGML v1.0//EN
CALSCALE:GREGORIAN
METHOD:PUBLISH
X-ORIGINAL-URL:https://www.babstcalland.com

REFRESH-INTERVAL;VALUE=DURATION:PT1H
X-Robots-Tag:noindex
X-PUBLISHED-TTL:PT1H
BEGIN:VTIMEZONE
TZID:America/New_York
BEGIN:DAYLIGHT
TZOFFSETFROM:-0500
TZOFFSETTO:-0400
TZNAME:EDT
DTSTART:20250309T070000
END:DAYLIGHT
BEGIN:STANDARD
TZOFFSETFROM:-0400
TZOFFSETTO:-0500
TZNAME:EST
DTSTART:20251102T060000
END:STANDARD
END:VTIMEZONE
BEGIN:VEVENT
DTSTART;TZID=America/New_York:20250313T074500
DTEND;TZID=America/New_York:20250313T170000
DTSTAMP:20260419T153536
CREATED:20250307T202542Z
LAST-MODIFIED:20250307T202600Z
UID:50154-1741851900-1741885200@www.babstcalland.com
SUMMARY:2025 Pennsylvania Data Center and Energy Innovation Summit
DESCRIPTION:Babst Calland joins the Pittsburgh Technology Council for its 2025 Pennsylvania Data Center and Energy Innovation Summit on Thursday\, March 13\, 2025.  This Summit will unite key stakeholders to explore the intersection of innovation\, energy\, and critical infrastructure\, showcasing Pennsylvania’s strengths in these sectors. It also offers a key opportunity to position the state as a prime location for data center development\, fostering collaboration to build a thriving data center ecosystem. For more information\, click here.
URL:https://www.babstcalland.com/event/2025-pennsylvania-data-center-and-energy-innovation-summit/
LOCATION:The Landing Hotel (Rivers Casino)\, 757 Casino Drive\, Pittsburgh\, PA\, 15212\, United States
CATEGORIES:Networking Event,Program and Reception
END:VEVENT
END:VCALENDAR