BEGIN:VCALENDAR
VERSION:2.0
PRODID:-//Babst Calland - Attorneys at Law - ECPv6.2.8.1//NONSGML v1.0//EN
CALSCALE:GREGORIAN
METHOD:PUBLISH
X-ORIGINAL-URL:https://www.babstcalland.com

REFRESH-INTERVAL;VALUE=DURATION:PT1H
X-Robots-Tag:noindex
X-PUBLISHED-TTL:PT1H
BEGIN:VTIMEZONE
TZID:America/New_York
BEGIN:DAYLIGHT
TZOFFSETFROM:-0500
TZOFFSETTO:-0400
TZNAME:EDT
DTSTART:20250309T070000
END:DAYLIGHT
BEGIN:STANDARD
TZOFFSETFROM:-0400
TZOFFSETTO:-0500
TZNAME:EST
DTSTART:20251102T060000
END:STANDARD
END:VTIMEZONE
BEGIN:VEVENT
DTSTART;TZID=America/New_York:20250326T160000
DTEND;TZID=America/New_York:20250326T180000
DTSTAMP:20260419T171428
CREATED:20250311T195618Z
LAST-MODIFIED:20260107T151810Z
UID:50342-1743004800-1743012000@www.babstcalland.com
SUMMARY:Women’s History Month Educational Networking Event
DESCRIPTION:Anna Jewart will serve as a panelist for the University of Pittsburgh’s Women’s History Month Educational Networking Event on Wednesday\, March 26\, 2025. This event celebrates Women’s History Month by showcasing women driving sustainability in four fields – business\, healthcare\, law\, and technology. It will also offer an opportunity to network with the panelists. For more information\, click here.
URL:https://www.babstcalland.com/event/womens-history-month-educational-networking-event/
LOCATION:WPU 540\, 4200 Fifth Ave.\, Pittsburgh\, 15260\, United States
CATEGORIES:Networking Event
END:VEVENT
BEGIN:VEVENT
DTSTART;TZID=America/New_York:20250326T173000
DTEND;TZID=America/New_York:20250326T203000
DTSTAMP:20260419T171428
CREATED:20250114T183707Z
LAST-MODIFIED:20250114T183707Z
UID:49874-1743010200-1743021000@www.babstcalland.com
SUMMARY:36th Annual Tribute to Women of Excellence
DESCRIPTION:Babst Calland joins the YWCA Greater Harrisburg for its 36th Annual Tribute to Women of Excellence (TWE) on Wednesday\, March 26\, 2025. This ceremony will honor 25 outstanding women in the Capital Region who dedicate their time\, talent and energy to making a positive impact on the organizations and communities they serve. Among this year’s honorees is Attorney Stefanie Pitcavage Mekilo\, who has been selected as a member of the TWE Class of 2025. For more information\, click here. \n 
URL:https://www.babstcalland.com/event/36th-annual-tribute-to-women-of-excellence/
LOCATION:Hershey Lodge & Convention Center\, 325 University Dr. \, Hershey \, PA\, 17033\, United States
CATEGORIES:Networking Event,Program and Reception
END:VEVENT
END:VCALENDAR