BEGIN:VCALENDAR
VERSION:2.0
PRODID:-//Babst Calland - Attorneys at Law - ECPv6.2.8.1//NONSGML v1.0//EN
CALSCALE:GREGORIAN
METHOD:PUBLISH
X-ORIGINAL-URL:https://www.babstcalland.com

REFRESH-INTERVAL;VALUE=DURATION:PT1H
X-Robots-Tag:noindex
X-PUBLISHED-TTL:PT1H
BEGIN:VTIMEZONE
TZID:America/New_York
BEGIN:DAYLIGHT
TZOFFSETFROM:-0500
TZOFFSETTO:-0400
TZNAME:EDT
DTSTART:20250309T070000
END:DAYLIGHT
BEGIN:STANDARD
TZOFFSETFROM:-0400
TZOFFSETTO:-0500
TZNAME:EST
DTSTART:20251102T060000
END:STANDARD
END:VTIMEZONE
BEGIN:VEVENT
DTSTART;TZID=America/New_York:20250409T084500
DTEND;TZID=America/New_York:20250410T161500
DTSTAMP:20260423T171440
CREATED:20250317T134951Z
LAST-MODIFIED:20250416T125254Z
UID:50385-1744188300-1744301700@www.babstcalland.com
SUMMARY:PBI’s 2025 Environmental Law Forum
DESCRIPTION:Babst Calland joins the Pennsylvania Bar Institute (PBI) for its 2024 Environmental Law Forum\, April 9-10\, 2025. The following attorneys will be presenters: \nJim Chen – “Development of Critical Minerals”\nThis session will discuss why domestic minerals are important for America’s energy future\, existing policies\, and the potential direction of future growth in the new energy era.\n \nKathy Condo – “Expert Witnesses: Effective Use”\nExpert witnesses are critical in most environmental litigation. This presentation addresses how to use expert witnesses most effectively\, including their expert reports\, qualifications\, and direct and cross examination. \nBetsy Dupuis – “Land Use/Zoning Law Update”\nDevelopment in Pennsylvania\, including most projects involving environmental issues\, is governed by the Municipalities Planning Code and local zoning and land use laws. The application of local land use laws frequently involves the interplay of those laws with state and federal law. This session will review significant land use cases decided over the last year in Pennsylvania\, with a focus on review standards\, standing requirements\, preemption doctrine and constitutional law. This area of the law is continually evolving\, and this session is designed to better understand how zoning and land use laws could impact your next project. \nKevin Garber – “Planners’ Roundtable: Advising in a Time of Change”\nThis Administration has changed a lot and quickly.  It has talked about changing more.  The change has happened in conventional and unconventional ways.  The change affects procedural underpinnings of federal environmental law and its substance.  The Planners will briefly review some of the more significant areas of change in order to focus on an environmental lawyer’s professional (not political) responsibilities to clients\, to the legal system\, and to others in this moment. \nKevin Garber also served as a member of the planning team for this Forum. For more information\, click here. \nJim Chen \nKathy Condo \nBetsy Dupuis \nKevin Garber \n 
URL:https://www.babstcalland.com/event/pbis-2025-environmental-law-forum/
LOCATION:Harrisburg Hilton & Towers\, One North Second Street\, Harrisburg\, PA\, 17101\, United States
CATEGORIES:CLE,Networking Event,Presentations
END:VEVENT
BEGIN:VEVENT
DTSTART;TZID=America/New_York:20250417T090000
DTEND;TZID=America/New_York:20250417T170000
DTSTAMP:20260423T171440
CREATED:20250331T165440Z
LAST-MODIFIED:20250331T165440Z
UID:50447-1744880400-1744909200@www.babstcalland.com
SUMMARY:2025 PIOGA Spring Meeting
DESCRIPTION:Environmental Attorney  Gary Steinbauer will provide a “Regulatory Update” during PIOGA’s Spring Meeting on Thursday\, April 17\, 2025. For more information\, click here.
URL:https://www.babstcalland.com/event/2025-pioga-spring-meeting/
LOCATION:Rivers Casino
CATEGORIES:Networking Event,Presentations
END:VEVENT
BEGIN:VEVENT
DTSTART;TZID=America/New_York:20250424T080000
DTEND;TZID=America/New_York:20250424T170000
DTSTAMP:20260423T171440
CREATED:20250402T175703Z
LAST-MODIFIED:20250402T175907Z
UID:50460-1745481600-1745514000@www.babstcalland.com
SUMMARY:Has A Company Executive or Employee Misbehaved? – Ethical Internal Investigations of Company Personnel
DESCRIPTION:Attorney Kevin Douglass will present “Has A Company Executive or Employee Misbehaved? – Ethical Internal Investigations of Company Personnel” at the Western Pennsylvania Chapter of the Association of Corporate Counsel’s (ACC) Spring Training on Thursday\, April 24\, 2025. \nAn employee or third party accuses your company’s officer\, executive or employee of misconduct. When faced with an allegation that can potentially expose your company to legal\, financial and reputational harm\, it is critical that the company promptly investigate the facts and assess the business risk. This presentation will address 1) the factors to consider when determining whether to perform an investigation\, 2) the selection of an investigative team\, 3) professional conduct standards involving client identification and communication\, confidentiality\, conflicts of interest\, scope of representation\, and privilege issues\, 4) the development and execution of an investigation plan and 5) the conclusion of the investigation and reporting on the results. This session aims to provide a roadmap of the issues and considerations associated with effectively navigating internal inquiries. \nFor more information\, click here.
URL:https://www.babstcalland.com/event/has-a-company-executive-or-employee-misbehaved-ethical-internal-investigations-of-company-personnel/
LOCATION:PNC Park Left Field Lounge
CATEGORIES:CLE,Presentations,Training
END:VEVENT
BEGIN:VEVENT
DTSTART;TZID=America/New_York:20250430T144500
DTEND;TZID=America/New_York:20250502T113000
DTSTAMP:20260423T171440
CREATED:20250324T153638Z
LAST-MODIFIED:20251112T154019Z
UID:50411-1746024300-1746185400@www.babstcalland.com
SUMMARY:2025 ABA Litigation Section Annual Conference
DESCRIPTION:Babst Calland joins the American Bar Association (ABA) for its 2025 Litigation Section Annual Conference\, April 30-May 2\, 2025. This Conference brings together top litigation professionals from across the U.S. to discuss timely legal issues and the latest in trial advocacy\, litigation strategy\, and case management. \nLitigation Attorney Joseph Schaeffer will serve as the moderator for the session “Using Artificial Intelligence in Discovery & Motion Practice.”  This panel of e-Discovery litigators\, experts\, and a retired judge will discuss the potential opportunities and pitfalls of using artificial intelligence for research\, drafting\, and discovery\, including ethical considerations. \nFor more information\, click here.
URL:https://www.babstcalland.com/event/2025-aba-litigation-section-annual-conference-2/
LOCATION:Hilton Chicago\, 720 South Michigan Avenue\, IL\, 60606\, United States
CATEGORIES:CLE,Conferences,Presentations
END:VEVENT
END:VCALENDAR