BEGIN:VCALENDAR
VERSION:2.0
PRODID:-//Babst Calland - Attorneys at Law - ECPv6.2.8.1//NONSGML v1.0//EN
CALSCALE:GREGORIAN
METHOD:PUBLISH
X-ORIGINAL-URL:https://www.babstcalland.com

REFRESH-INTERVAL;VALUE=DURATION:PT1H
X-Robots-Tag:noindex
X-PUBLISHED-TTL:PT1H
BEGIN:VTIMEZONE
TZID:America/New_York
BEGIN:DAYLIGHT
TZOFFSETFROM:-0500
TZOFFSETTO:-0400
TZNAME:EDT
DTSTART:20250309T070000
END:DAYLIGHT
BEGIN:STANDARD
TZOFFSETFROM:-0400
TZOFFSETTO:-0500
TZNAME:EST
DTSTART:20251102T060000
END:STANDARD
END:VTIMEZONE
BEGIN:VEVENT
DTSTART;TZID=America/New_York:20251006T163000
DTEND;TZID=America/New_York:20251006T210000
DTSTAMP:20260420T062844
CREATED:20251106T153444Z
LAST-MODIFIED:20251106T153444Z
UID:53499-1759768200-1759784400@www.babstcalland.com
SUMMARY:41st PA Chamber Annual Dinner
DESCRIPTION:Babst Calland joins the PA Chamber of Business & Industry for its Annual Dinner on Monday\, October 6\, 2025. For more information\, click here.
URL:https://www.babstcalland.com/event/41st-pa-chamber-annual-dinner/
LOCATION:Hershey Lodge
CATEGORIES:Networking Event,Presentations
END:VEVENT
BEGIN:VEVENT
DTSTART;TZID=America/New_York:20251007T080000
DTEND;TZID=America/New_York:20251009T121500
DTSTAMP:20260420T062844
CREATED:20250902T160559Z
LAST-MODIFIED:20250902T160820Z
UID:52930-1759824000-1760012100@www.babstcalland.com
SUMMARY:2025 EMLF Fall Symposium
DESCRIPTION:Babst Calland joins the Energy & Mineral Law Foundation (EMLF) for its Annual Fall Symposium\, October 7-9\, 2025. \nEmployment and Labor Attorney John McCreary will present “The End of Prohibition: Marijuana Comes to the Workplace.” At least 33 states have authorized the use of medical cannabis. At least 18 states have “legalized” the recreational use of cannabis. To date\, federal law continues to classify cannabis as a Schedule 1 substance defined as “drugs with no currently accepted medical use and a high potential for abuse.” The conflicting legal regimes create uncertainty for employers. This presentation will review state and federal laws relating to cannabis and discuss some noteworthy court decisions. \nLitigation Attorneys Steve Silverman and Katerina Vassil will co-present “Legal and Practical Hurdles Surrounding Lithium: The Next Extraction Revolution.” As E&P companies explore participating in lithium extraction from produced water\, they face many legal and business hurdles but recognize that the benefits may be tremendous. This program explores those hurdles\, including overcoming title issues\, lease language limitations\, and other challenges by answering such fundamental questions as who owns the extracted lithium and the produced water where it resides. Just as importantly\, it will address the state of extraction technologies and their current scalability and sustainability limitations. \nFor more information\, click here. \nJohn McCreary \nSteve Silverman \nKaterina Vassil
URL:https://www.babstcalland.com/event/2025-emlf-fall-symposium/
LOCATION:Central Bank Center\, 430 W. Vine Street\, Lexington\, KY\, 40507\, United States
CATEGORIES:CLE,Conferences,Networking Event,Presentations
END:VEVENT
BEGIN:VEVENT
DTSTART;TZID=America/New_York:20251015T130000
DTEND;TZID=America/New_York:20251015T140000
DTSTAMP:20260420T062844
CREATED:20251002T141836Z
LAST-MODIFIED:20251002T141836Z
UID:53215-1760533200-1760536800@www.babstcalland.com
SUMMARY:Who\, What\, When\, and Why of Authority Rules and Regulations
DESCRIPTION:Municipal Attorneys Betsy Dupuis and Morgan Madden will present “Who\, What\, When\, and Why of Authority Rules and Regulations” to the Pennsylvania Municipal Authorities Association on Wednesday\, October 15\, 2025. Most municipal authorities in the Commonwealth have some iteration of rules and regulations to govern and guide the use of equipment\, services provided\, and authority-owned facilities. Sometimes these regulations simply cover the basics including fees for tapping\, services\, etc.\, and yet other municipalities have more robust regulations that dictate\, for example\, how repairs are to be completed and who is responsible for costs associated with the same. As a general rule\, authorities should regularly review their rules and regulations and ensure that those rules and regulations are sufficient and enforceable based upon current operations and services\, and ensure both the system and the authority are protected from unauthorized actors and a constantly evolving legal and regulatory landscape. This presentation will discuss the source of municipal authorities’ authority\, the framework within which municipal authorities can and should develop rules and regulations and further discuss basics and best practices for promulgating and enforcing sensible authority rules and regulations. \nLearning Objectives: \n\nProvide an overview of the statutory and regulatory rules around authority creation and governing instruments for each authority.\nEmphasize the importance of the underlying relationship between authorities and the entities that created them.\nUnderscore the importance of understanding an authority’s infrastructure– who owns it\, who manages it and who pays when it needs replaced.\nReview best practices for how to develop internal rules and procedures for authority operations\, personnel and municipal relationships.\nDeliver tips and best practices for developing authority rules and regulations for customers and constituents.\n\nFor more information\, click here. \nBetsy Dupuis \nMorgan Madden
URL:https://www.babstcalland.com/event/who-what-when-and-why-of-authority-rules-and-regulations/
LOCATION:Webinar
CATEGORIES:Presentations,Webinars
END:VEVENT
BEGIN:VEVENT
DTSTART;TZID=America/New_York:20251028T080000
DTEND;TZID=America/New_York:20251028T153000
DTSTAMP:20260420T062844
CREATED:20250923T134001Z
LAST-MODIFIED:20250923T134001Z
UID:53170-1761638400-1761665400@www.babstcalland.com
SUMMARY:2025 PA Chamber’s Annual Environmental Conference
DESCRIPTION:Environmental Attorney Gary Steinbauer will co-present “Federal and State Policy Changes in Environment and Energy” at the PA Chamber of Business and Industry’s Annual Environmental Conference on Tuesday\, October 28\, 2025. This Conference brings together industry leaders\, policymakers\, and stakeholders to provide critical updates on environmental policy in the Commonwealth. It also explores insights and aspirations for the future of energy and infrastructure investment in Pennsylvania\, as well as what that future holds for the state’s emerging policy landscape. For more information\, click here.
URL:https://www.babstcalland.com/event/2025-pa-chambers-annual-environmental-conference/
LOCATION:Sheraton Harrisburg Hershey
CATEGORIES:Conferences,Networking Event,Presentations
END:VEVENT
END:VCALENDAR