BEGIN:VCALENDAR
VERSION:2.0
PRODID:-//Babst Calland - Attorneys at Law - ECPv6.2.8.1//NONSGML v1.0//EN
CALSCALE:GREGORIAN
METHOD:PUBLISH
X-ORIGINAL-URL:https://www.babstcalland.com

REFRESH-INTERVAL;VALUE=DURATION:PT1H
X-Robots-Tag:noindex
X-PUBLISHED-TTL:PT1H
BEGIN:VTIMEZONE
TZID:America/New_York
BEGIN:DAYLIGHT
TZOFFSETFROM:-0500
TZOFFSETTO:-0400
TZNAME:EDT
DTSTART:20260308T070000
END:DAYLIGHT
BEGIN:STANDARD
TZOFFSETFROM:-0400
TZOFFSETTO:-0500
TZNAME:EST
DTSTART:20261101T060000
END:STANDARD
END:VTIMEZONE
BEGIN:VEVENT
DTSTART;TZID=America/New_York:20260304T100000
DTEND;TZID=America/New_York:20260306T130000
DTSTAMP:20260419T140504
CREATED:20260206T145619Z
LAST-MODIFIED:20260206T145703Z
UID:54523-1772618400-1772802000@www.babstcalland.com
SUMMARY:2026 OOGA Annual Meeting
DESCRIPTION:Attorneys Justine Kasznica and Max Junker will present “A Comprehensive Approach to Data Center Development and the Pivotal Role of Natural Gas” at the Ohio Oil and Gas Association’s (OOGA) Annual Meeting on Wednesday\, March 4\, 2026. For more information\, click here. \nJustine Kasznica \nMax Junker
URL:https://www.babstcalland.com/event/2026-ooga-annual-meeting/
LOCATION:Hilton Columbus at Easton\, 3900 Chagrin Dr. \, Columbus\, OH\, 43219\, United States
CATEGORIES:Meeting,Presentations
END:VEVENT
BEGIN:VEVENT
DTSTART;TZID=America/New_York:20260305T080000
DTEND;TZID=America/New_York:20260305T154500
DTSTAMP:20260419T140504
CREATED:20260219T191257Z
LAST-MODIFIED:20260219T191318Z
UID:54587-1772697600-1772725500@www.babstcalland.com
SUMMARY:PA Chamber of Business and Industry's 2026 Human Resources Conference
DESCRIPTION:On Thursday\, March 5\, 2026\, business leaders from across the Commonwealth will gather for the PA Chamber of Business and Industry’s 2026 Human Resources Conference to tackle one of today’s most pressing employer challenges: how to operationalize AI responsibly\, effectively\, and with confidence. \nBabst Calland Employment and Labor Attorney Alex Farone will join Denise Turley\, Vice President of Corporate Systems at the U.S. Chamber of Commerce\, to present “Operationalizing AI in the Workplace”.  As artificial intelligence becomes a day-to-day workplace tool\, HR leaders play a critical role in guiding how it is used responsibly\, effectively\, and in compliance with evolving laws and expectations. This presentation will explore how organizations can move beyond theory to develop clear AI policies\, governance frameworks\, and workforce guidance that empower employees to leverage AI while managing risk. For more information\, click here.
URL:https://www.babstcalland.com/event/54587/
LOCATION:Sheraton Harrisburg Hershey
CATEGORIES:CLE,Conferences,Presentations
END:VEVENT
BEGIN:VEVENT
DTSTART;TZID=America/New_York:20260317T120000
DTEND;TZID=America/New_York:20260319T160000
DTSTAMP:20260419T140504
CREATED:20260206T141746Z
LAST-MODIFIED:20260206T141850Z
UID:54518-1773748800-1773936000@www.babstcalland.com
SUMMARY:2026 Environmental Compliance Navigator Conference
DESCRIPTION:Environmental Attorney Gary Steinbauer will present “Navigating the Federal–State Dynamic in Air Permitting and Enforcement: Practical Strategies and Tips for EHS Professionals” at the Environmental Compliance Navigator conference on Thursday\, March 19\, 2026. \nAir emissions permitting and enforcement actions often require facilities to navigate complex and sometimes disjointed relationships between the U.S. Environmental Protection Agency and delegated state or local air permitting and enforcement authorities. Differences in regulatory interpretation\, permitting timelines\, public participation requirements\, and enforcement priorities can create uncertainty and operational risk for regulated entities—particularly when permits are modified\, renewed\, or challenged and when agencies’ policy priorities conflict. \nIn this session\, Gary will explore how EPA and state air agencies interact under the Clean Air Act\, where points of friction commonly arise\, and how those challenges can impact facility operations and compliance obligations. Drawing on real-world permitting and enforcement experience\, the presentation will highlight common pitfalls EHS managers encounter in air permitting and enforcement\, including coordination issues with regulatory authorities\, evolving regulatory requirements\, and compliance vulnerabilities. \nThe session will conclude with practical strategies EHS professionals can use to better manage air permits\, communicate effectively with federal\, state\, and local regulators\, and proactively reduce air-related compliance risk. \nFor more information\, click here.
URL:https://www.babstcalland.com/event/54518/
LOCATION:NOPSI Hotel\, 317 Baronne Street\, New Orleans\, LA\, 70112
CATEGORIES:Conferences,Presentations
END:VEVENT
END:VCALENDAR