BEGIN:VCALENDAR
VERSION:2.0
PRODID:-//Babst Calland - Attorneys at Law - ECPv6.2.8.1//NONSGML v1.0//EN
CALSCALE:GREGORIAN
METHOD:PUBLISH
X-ORIGINAL-URL:https://www.babstcalland.com

REFRESH-INTERVAL;VALUE=DURATION:PT1H
X-Robots-Tag:noindex
X-PUBLISHED-TTL:PT1H
BEGIN:VTIMEZONE
TZID:America/New_York
BEGIN:DAYLIGHT
TZOFFSETFROM:-0500
TZOFFSETTO:-0400
TZNAME:EDT
DTSTART:20250309T070000
END:DAYLIGHT
BEGIN:STANDARD
TZOFFSETFROM:-0400
TZOFFSETTO:-0500
TZNAME:EST
DTSTART:20251102T060000
END:STANDARD
END:VTIMEZONE
BEGIN:VEVENT
DTSTART;TZID=America/New_York:20250430T144500
DTEND;TZID=America/New_York:20250502T113000
DTSTAMP:20260423T170904
CREATED:20250324T153638Z
LAST-MODIFIED:20251112T154019Z
UID:50411-1746024300-1746185400@www.babstcalland.com
SUMMARY:2025 ABA Litigation Section Annual Conference
DESCRIPTION:Babst Calland joins the American Bar Association (ABA) for its 2025 Litigation Section Annual Conference\, April 30-May 2\, 2025. This Conference brings together top litigation professionals from across the U.S. to discuss timely legal issues and the latest in trial advocacy\, litigation strategy\, and case management. \nLitigation Attorney Joseph Schaeffer will serve as the moderator for the session “Using Artificial Intelligence in Discovery & Motion Practice.”  This panel of e-Discovery litigators\, experts\, and a retired judge will discuss the potential opportunities and pitfalls of using artificial intelligence for research\, drafting\, and discovery\, including ethical considerations. \nFor more information\, click here.
URL:https://www.babstcalland.com/event/2025-aba-litigation-section-annual-conference-2/
LOCATION:Hilton Chicago\, 720 South Michigan Avenue\, IL\, 60606\, United States
CATEGORIES:CLE,Conferences,Presentations
END:VEVENT
BEGIN:VEVENT
DTSTART;TZID=America/New_York:20250501T080000
DTEND;TZID=America/New_York:20250501T170000
DTSTAMP:20260423T170904
CREATED:20250404T190718Z
LAST-MODIFIED:20250404T190858Z
UID:50467-1746086400-1746118800@www.babstcalland.com
SUMMARY:Shale 2.0: Learn the Facts About Upstream\, Midstream and Downstream
DESCRIPTION:Babst Calland joins the Marcellus Shale Coalition for Shale 2.0: Learn the Facts About Upstream\, Midstream and Downstream on Thursday\, May 1\, 2025. During this seminar\, professional experts will educate attendees on the upstream\, midstream\, and downstream industry segments with a focus on practical knowledge and applications for professional development and business growth. This comprehensive overview offers a learning experience for industry newcomers as well as a refresher for seasoned veterans. \nEnvironmental Attorney Gary Steinbauer will serve as the moderator for “Upstream and Midstream: Understanding Laws and Regulations.” This session will cover a comprehensive overview of the existing federal\, state and local laws and regulations that govern the upstream and midstream segments of the oil and gas industry\, as well as permit and reporting requirements. \nFor more information\, click here.
URL:https://www.babstcalland.com/event/shale-2-0-learn-the-facts-about-upstream-midstream-and-downstream/
LOCATION:Hybrid
CATEGORIES:Presentations,Seminars,Training,Webinars
END:VEVENT
END:VCALENDAR