BEGIN:VCALENDAR
VERSION:2.0
PRODID:-//Babst Calland - Attorneys at Law - ECPv6.2.8.1//NONSGML v1.0//EN
CALSCALE:GREGORIAN
METHOD:PUBLISH

X-ORIGINAL-URL:https://www.babstcalland.com

REFRESH-INTERVAL;VALUE=DURATION:PT1H
X-Robots-Tag:noindex
X-PUBLISHED-TTL:PT1H
BEGIN:VTIMEZONE
TZID:America/New_York
BEGIN:DAYLIGHT
TZOFFSETFROM:-0500
TZOFFSETTO:-0400
TZNAME:EDT
DTSTART:20250309T070000
END:DAYLIGHT
BEGIN:STANDARD
TZOFFSETFROM:-0400
TZOFFSETTO:-0500
TZNAME:EST
DTSTART:20251102T060000
END:STANDARD
END:VTIMEZONE
BEGIN:VEVENT
DTSTART;TZID=America/New_York:20250808T080000
DTEND;TZID=America/New_York:20250808T180000
DTSTAMP:20260421T070656
CREATED:20250728T132510Z
LAST-MODIFIED:20250728T132510Z
UID:52478-1754640000-1754676000@www.babstcalland.com
SUMMARY:Navigating the Evolving Data Privacy Landscape: Strategic Legal and Operational Considerations
DESCRIPTION:Attorneys Susanna Bagdasarova and Kristen Petrina will present “Navigating the Evolving Data Privacy Landscape: Strategic Legal and Operational Considerations” at the Western Pennsylvania Chapter of the Association of Corporate Counsel’s (ACC) Back to School: An In-House Primer on Friday\, August 8\, 2025. \nThis presentation explores the rapidly evolving landscape of data privacy\, highlighting how shifting regulatory frameworks\, global compliance standards\, and rising stakeholder expectations are reshaping business practices. The session will provide a comprehensive overview of current and emerging data privacy laws and their operational impact across industries. Attendees will gain insights into the Data Privacy Framework as well as privacy considerations in critical business functions including third-party contracting\, mergers and acquisitions\, and employee data management. Through practical examples and strategic guidance\, this presentation aims to equip legal\, compliance\, and business leaders with tools to navigate data privacy challenges\, mitigate risks\, and drive responsible data governance. \nFor more information\, click here. \nSusanna Bagdasarova \nKristen Petrina
URL:https://www.babstcalland.com/event/navigating-the-evolving-data-privacy-landscape-strategic-legal-and-operational-considerations/
LOCATION:Grand Hall at The Priory\, 614 Pressley Street\, Pittsburgh\, PA\, 15212\, United States
CATEGORIES:CLE,Presentations
END:VEVENT
END:VCALENDAR