BEGIN:VCALENDAR
VERSION:2.0
PRODID:-//Babst Calland - Attorneys at Law - ECPv6.2.8.1//NONSGML v1.0//EN
CALSCALE:GREGORIAN
METHOD:PUBLISH
X-ORIGINAL-URL:https://www.babstcalland.com

REFRESH-INTERVAL;VALUE=DURATION:PT1H
X-Robots-Tag:noindex
X-PUBLISHED-TTL:PT1H
BEGIN:VTIMEZONE
TZID:America/New_York
BEGIN:DAYLIGHT
TZOFFSETFROM:-0500
TZOFFSETTO:-0400
TZNAME:EDT
DTSTART:20190310T070000
END:DAYLIGHT
BEGIN:STANDARD
TZOFFSETFROM:-0400
TZOFFSETTO:-0500
TZNAME:EST
DTSTART:20191103T060000
END:STANDARD
END:VTIMEZONE
BEGIN:VEVENT
DTSTART;TZID=America/New_York:20191204T090000
DTEND;TZID=America/New_York:20191204T121500
DTSTAMP:20260425T111112
CREATED:20191015T135622Z
LAST-MODIFIED:20221018T210325Z
UID:24980-1575450000-1575461700@www.babstcalland.com
SUMMARY:Hot Topics in Oil & Gas Law 2019
DESCRIPTION:Attorneys Jean Mosites and Krista Staley will present at the Pennsylvania Bar Institute’s (PBI) “Hot Topics in Oil & Gas Law 2019” program on Wednesday\, December 4\, 2019.  This program will examine a variety of current legal issues affecting oil and gas operations in Pennsylvania. Bring questions and find answers on the following topics: \n\nWhere do your property rights begin and end? What happens to subsurface rights under streams\, highways\, and railways?\nWhat are the obligations and limits of municipal authority to regulate oil and gas activities in light of Pennsylvania court decisions on zoning and environmental rights?\nWhat’s new in leasing\, royalty payments\, pooling and unitization?\nHow will oil and gas activities be affected by state and federal laws addressing climate change and greenhouse gas emissions?\n\n\n\n\n\nJean Mosites \n\n\n\n\nKrista Staley
URL:https://www.babstcalland.com/event/hot-topics-in-oil-gas-law-2019/
LOCATION:PBI Professional Development Conference Center\, Heinz 57 Center 339 Sixth Ave. 7th Floor\, Pittsburgh\, PA\, 15222\, United States
CATEGORIES:CLE,Seminars
END:VEVENT
BEGIN:VEVENT
DTSTART;TZID=America/New_York:20191217T083000
DTEND;TZID=America/New_York:20191217T160000
DTSTAMP:20260425T111112
CREATED:20191206T170011Z
LAST-MODIFIED:20221127T144922Z
UID:25488-1576571400-1576598400@www.babstcalland.com
SUMMARY:PIOGATech Air Quality Compliance Training
DESCRIPTION:Attorneys Kevin Garber and Jean Mosites will be presenting at PIOGATech Air Quality Compliance Training on Tuesday\, December 17\, 2019.  This training will provide an overview of the air quality regulations and associated compliance obligations currently impacting the oil and gas industry. The course will also cover emissions inventory basics\, current developments regarding emissions monitoring and testing\, and a legal update on oil and gas air quality topics.  The course will close with a panel discussion covering air quality compliance topics.  For more information\, click here. \nKevin Garber \nJean Mosites
URL:https://www.babstcalland.com/event/piogatech-air-quality-compliance-training/
LOCATION:The Chadwick\, 10545 Perry Highway\, Wexford\, PA\, 15090\, United States
CATEGORIES:Presentations,Seminars
END:VEVENT
END:VCALENDAR