BEGIN:VCALENDAR
VERSION:2.0
PRODID:-//Babst Calland - Attorneys at Law - ECPv6.2.8.1//NONSGML v1.0//EN
CALSCALE:GREGORIAN
METHOD:PUBLISH
X-ORIGINAL-URL:https://www.babstcalland.com

REFRESH-INTERVAL;VALUE=DURATION:PT1H
X-Robots-Tag:noindex
X-PUBLISHED-TTL:PT1H
BEGIN:VTIMEZONE
TZID:America/New_York
BEGIN:DAYLIGHT
TZOFFSETFROM:-0500
TZOFFSETTO:-0400
TZNAME:EDT
DTSTART:20200308T070000
END:DAYLIGHT
BEGIN:STANDARD
TZOFFSETFROM:-0400
TZOFFSETTO:-0500
TZNAME:EST
DTSTART:20201101T060000
END:STANDARD
END:VTIMEZONE
BEGIN:VEVENT
DTSTART;TZID=America/New_York:20200826T120000
DTEND;TZID=America/New_York:20200826T130000
DTSTAMP:20260421T025038
CREATED:20200814T193529Z
LAST-MODIFIED:20221018T210350Z
UID:27901-1598443200-1598446800@www.babstcalland.com
SUMMARY:Think About Energy Webinar
DESCRIPTION:Join Babst Calland attorney Joseph Reinhart at Think About Energy: A Decade of Environmental & Regulatory Progress in the Natural Gas Industry\, Wednesday\, August 26\, 2020. The natural gas industry has afforded the Appalachian Basin with economical and environmental benefits for over a decade. As the technologies continue to evolve\, the industry has been at the forefront implementing best management practices\, best in class equipment\, increased transparency and environmental excellence. This webinar will welcome key industry experts who have worked closely with the regulatory agencies to help craft some of the strongest and transparent regulations in the nation.
URL:https://www.babstcalland.com/event/think-about-energy-webinar/
LOCATION:Webinar
CATEGORIES:Presentations,Seminars,Webinars
END:VEVENT
END:VCALENDAR