BEGIN:VCALENDAR
VERSION:2.0
PRODID:-//Babst Calland - Attorneys at Law - ECPv6.2.8.1//NONSGML v1.0//EN
CALSCALE:GREGORIAN
METHOD:PUBLISH
X-ORIGINAL-URL:https://www.babstcalland.com

REFRESH-INTERVAL;VALUE=DURATION:PT1H
X-Robots-Tag:noindex
X-PUBLISHED-TTL:PT1H
BEGIN:VTIMEZONE
TZID:America/New_York
BEGIN:DAYLIGHT
TZOFFSETFROM:-0500
TZOFFSETTO:-0400
TZNAME:EDT
DTSTART:20190310T070000
END:DAYLIGHT
BEGIN:STANDARD
TZOFFSETFROM:-0400
TZOFFSETTO:-0500
TZNAME:EST
DTSTART:20191103T060000
END:STANDARD
END:VTIMEZONE
BEGIN:VEVENT
DTSTART;TZID=America/New_York:20191108T093000
DTEND;TZID=America/New_York:20191108T153000
DTSTAMP:20260425T155127
CREATED:20191024T192115Z
LAST-MODIFIED:20221018T210326Z
UID:33511-1573205400-1573227000@www.babstcalland.com
SUMMARY:Pennsylvania Association of Zoning Officials Fall Educational Seminar
DESCRIPTION:Attorneys Alyssa Golfieri and Max Junker will present on the enforcement process to help Zoning Officers make sure they are following the correct procedure at the Pennsylvania Association of Zoning Officials (PAAZO) Fall Educational Seminar on Friday\, November 8\, 2019. This full-day seminar is an excellent opportunity for zoning officers\, planners\, and other officials to get caught up on recent zoning and land use developments\, as well as obtain a refresher on other commonly addressed issues and concerns. For more information\, click here. \nAlyssa Golfieri \nMax Junker \n  \n 
URL:https://www.babstcalland.com/event/2019-paazo-fall-educational-seminar/
LOCATION:Practice Page
CATEGORIES:CLE,Presentations,Seminars
END:VEVENT
END:VCALENDAR