BEGIN:VCALENDAR
VERSION:2.0
PRODID:-//Babst Calland - Attorneys at Law - ECPv6.2.8.1//NONSGML v1.0//EN
CALSCALE:GREGORIAN
METHOD:PUBLISH
X-ORIGINAL-URL:https://www.babstcalland.com

REFRESH-INTERVAL;VALUE=DURATION:PT1H
X-Robots-Tag:noindex
X-PUBLISHED-TTL:PT1H
BEGIN:VTIMEZONE
TZID:America/New_York
BEGIN:DAYLIGHT
TZOFFSETFROM:-0500
TZOFFSETTO:-0400
TZNAME:EDT
DTSTART:20220313T070000
END:DAYLIGHT
BEGIN:STANDARD
TZOFFSETFROM:-0400
TZOFFSETTO:-0500
TZNAME:EST
DTSTART:20221106T060000
END:STANDARD
END:VTIMEZONE
BEGIN:VEVENT
DTSTART;TZID=America/New_York:20221026T080000
DTEND;TZID=America/New_York:20221026T190000
DTSTAMP:20260423T171441
CREATED:20220804T133237Z
LAST-MODIFIED:20221123T204955Z
UID:37099-1666771200-1666810800@www.babstcalland.com
SUMMARY:PIOGATech - 2022 Water & Waste Management Training
DESCRIPTION:Attorneys Lisa Bruderly\, Matt Wood and Marley Kimelman will present legal updates on Waters of the United States (WOTUS)\, the newly proposed regulation of PFAS (or forever chemicals) and Pennsylvania’s Environmental Justice policy (EJ) during the 2022 Water & Waste Management Training hosted by PIOGA’s Environmental Committee on Wednesday\, October 26\, 2022. Other topics include: drill cutting management & CM recovery\, regulatory updates\, training on new TGD on RAD Plans and UIC Wells. For more information\, click here. \nLisa Bruderly \nMatt Wood \nMarley Kimelman
URL:https://www.babstcalland.com/event/piogatech-2022-water-waste-management-training/
LOCATION:Bella Sera Event Villa\, 414 Morganza Road\, Canonsburg\, PA\, 15317\, United States
CATEGORIES:Training
ORGANIZER;CN="Deana McMahan":MAILTO:deana@pioga.org
END:VEVENT
END:VCALENDAR